BEGIN:VCALENDAR
VERSION:2.0
PRODID:-//Scout &amp; Molly&#039;s Cherry Hill - ECPv6.15.20//NONSGML v1.0//EN
CALSCALE:GREGORIAN
METHOD:PUBLISH
X-ORIGINAL-URL:https://www.scoutandmollys.com/cherry-hill
X-WR-CALDESC:Events for Scout &amp; Molly&#039;s Cherry Hill
REFRESH-INTERVAL;VALUE=DURATION:PT1H
X-Robots-Tag:noindex
X-PUBLISHED-TTL:PT1H
BEGIN:VTIMEZONE
TZID:UTC
BEGIN:STANDARD
TZOFFSETFROM:+0000
TZOFFSETTO:+0000
TZNAME:UTC
DTSTART:20240101T000000
END:STANDARD
END:VTIMEZONE
BEGIN:VEVENT
DTSTART;TZID=UTC:20250521T100000
DTEND;TZID=UTC:20250526T180000
DTSTAMP:20260419T184820
CREATED:20250515T170551Z
LAST-MODIFIED:20250519T190732Z
UID:7636-1747821600-1748282400@www.scoutandmollys.com
SUMMARY:🎆 Celebrate in Style This Memorial Day at Cherry Hill!
DESCRIPTION:From Wednesday\, May 21st through Monday\, May 26th\, Scout & Molly’s Cherry Hill is offering 50% OFF all sale items to help you kick off summer in standout style!✨ \nWhether you’re planning a weekend getaway or just updating your wardrobe\, you’ll find bold prints\, breezy silhouettes\, and all the chic staples your closet deserves. \nVisit us at Towne Place at Garden State Park and let our team help you find that perfect piece to salute your style this season. 🎀
URL:https://www.scoutandmollys.com/cherry-hill/event/memorial-day-sale-2025/
LOCATION:Scout & Molly’s Cherry Hill\, 957 Haddonfield Road\, Cherry Hill\, NJ\, 08002\, United States
ATTACH;FMTTYPE=image/png:https://www.scoutandmollys.com/cherry-hill/wp-content/uploads/sites/19/2025/05/Cherry-Hill-Memorial-Social-Post.png
END:VEVENT
BEGIN:VEVENT
DTSTART;TZID=UTC:20250515T100000
DTEND;TZID=UTC:20250522T180000
DTSTAMP:20260419T184820
CREATED:20250514T174819Z
LAST-MODIFIED:20250514T175958Z
UID:7631-1747303200-1747936800@www.scoutandmollys.com
SUMMARY:Spring Dress Sale!💐
DESCRIPTION:Step into style with 30% OFF full-price dresses at Scout & Molly’s Cherry Hill! 💖 \nFrom May 15th–22nd\, refresh your wardrobe with dresses designed to turn heads and boost confidence. ✨ \nNow’s the time to grab that standout piece you’ve been eyeing—before it’s gone! 🛍️ \n*Exclusions may apply
URL:https://www.scoutandmollys.com/cherry-hill/event/spring-dress-sale-2/
LOCATION:Scout & Molly’s Cherry Hill\, 957 Haddonfield Road\, Cherry Hill\, NJ\, 08002\, United States
ATTACH;FMTTYPE=image/png:https://www.scoutandmollys.com/cherry-hill/wp-content/uploads/sites/19/2025/05/Cherry-Hill-Dress-Sale-Social.png
END:VEVENT
BEGIN:VEVENT
DTSTART;TZID=UTC:20250510T100000
DTEND;TZID=UTC:20250510T180000
DTSTAMP:20260419T184820
CREATED:20250506T210500Z
LAST-MODIFIED:20250506T210500Z
UID:7624-1746871200-1746900000@www.scoutandmollys.com
SUMMARY:Mother’s Day Shop & Sip Event!✨🌸
DESCRIPTION:🌸✨ Join us this Saturday\, May 10th\, for a fabulous Mother’s Day Shop & Sip event! ✨🌸 \nEnjoy 40% off full-price dresses and 30% off jewelry & accessories — the perfect chance to treat yourself and pick up something special for Mom! \n🎀 Come sip\, shop\, and celebrate! 🍾💖 Get something for YOU\, and something for HER! 💖 \nDon’t miss out on these amazing Mother’s Day deals! 🌷👗💎 \n📍 957 Haddonfield Rd\, Cherry Hill Township\, NJ📲 @scoutandmollyscherryhill
URL:https://www.scoutandmollys.com/cherry-hill/event/mothers-day-shop-sip-event/
LOCATION:Scout & Molly’s Cherry Hill\, 957 Haddonfield Road\, Cherry Hill\, NJ\, 08002\, United States
ATTACH;FMTTYPE=image/png:https://www.scoutandmollys.com/cherry-hill/wp-content/uploads/sites/19/2025/05/Cherry-Hill-Mothers-Day-Shop-N-Sip-1.png
END:VEVENT
BEGIN:VEVENT
DTSTART;TZID=UTC:20250503T120000
DTEND;TZID=UTC:20250503T140000
DTSTAMP:20260419T184820
CREATED:20250429T150543Z
LAST-MODIFIED:20250429T150543Z
UID:7620-1746273600-1746280800@www.scoutandmollys.com
SUMMARY:Join us for our Glow Up Skincare Event!✨
DESCRIPTION:✨ You’re invited to Glow Up with us! ✨Join us Saturday\, May 3rd from 12–2 PM at Scout & Molly’s Cherry Hill for light bites\, prosecco\, and an exclusive skincare experience featuring Olive Tree People 🌿 \n🥂 Sip on olive oil “shots”🧴 Try skincare samples on the spot🌸 Discover ancient beauty benefits backed by science \nCome shop\, sip\, and glow—see you there!📍 957 Haddonfield Rd\, Cherry Hill Township\, NJ📲 @scoutandmollyscherryhill
URL:https://www.scoutandmollys.com/cherry-hill/event/join-us-for-our-glow-up-skincare-event/
LOCATION:Scout & Molly’s Cherry Hill\, 957 Haddonfield Road\, Cherry Hill\, NJ\, 08002\, United States
ATTACH;FMTTYPE=image/png:https://www.scoutandmollys.com/cherry-hill/wp-content/uploads/sites/19/2025/04/Cherry-Hill-x-Olive-Tree-People-Social.png
END:VEVENT
BEGIN:VEVENT
DTSTART;TZID=UTC:20250409T100000
DTEND;TZID=UTC:20250413T170000
DTSTAMP:20260419T184820
CREATED:20250409T171823Z
LAST-MODIFIED:20250409T171925Z
UID:7609-1744192800-1744563600@www.scoutandmollys.com
SUMMARY:Spring Dress Sale!👗💐
DESCRIPTION:✨ 25% OFF ALL Dresses! ✨ \nFrom Wednesday\, April 9 to Sunday\, April 13\, enjoy 25% OFF every single dress in store! 💃👗 Whether it’s for a special occasion or a casual day out\, we’ve got the perfect dress for you—no exclusions! 🎉 \nStop by and treat yourself to something new. Your closet will thank you! 🛍️💕
URL:https://www.scoutandmollys.com/cherry-hill/event/spring-dress-sale/
LOCATION:Scout & Molly’s Cherry Hill\, 957 Haddonfield Road\, Cherry Hill\, NJ\, 08002\, United States
ATTACH;FMTTYPE=image/png:https://www.scoutandmollys.com/cherry-hill/wp-content/uploads/sites/19/2025/04/unnamed-1.png
END:VEVENT
BEGIN:VEVENT
DTSTART;TZID=UTC:20250322T120000
DTEND;TZID=UTC:20250322T150000
DTSTAMP:20260419T184820
CREATED:20250305T142409Z
LAST-MODIFIED:20250306T163008Z
UID:7412-1742644800-1742655600@www.scoutandmollys.com
SUMMARY:Hammitt Trunk Show!👜💖
DESCRIPTION:✨ You’re Invited! ✨ Join us for the Hammitt Trunk Show at Scout & Molly’s Cherry Hill on Saturday\, March 22nd\, from 12-3 PM! 👜💖 \nExplore stunning Hammitt handbags & enter for a chance to WIN a FREE bag! 🎉 Don’t miss out on this exclusive shopping event! \nTag your shopping besties & set your reminders! 🛍️
URL:https://www.scoutandmollys.com/cherry-hill/event/hammitt-trunk-show/
LOCATION:Scout & Molly’s Cherry Hill\, 957 Haddonfield Road\, Cherry Hill\, NJ\, 08002\, United States
ATTACH;FMTTYPE=image/png:https://www.scoutandmollys.com/cherry-hill/wp-content/uploads/sites/19/2025/03/small-image-15-1.png
END:VEVENT
BEGIN:VEVENT
DTSTART;TZID=UTC:20250315T100000
DTEND;TZID=UTC:20250315T180000
DTSTAMP:20260419T184820
CREATED:20250115T185321Z
LAST-MODIFIED:20250304T220437Z
UID:7038-1742032800-1742061600@www.scoutandmollys.com
SUMMARY:🥂Scout & Molly’s Cherry Hill Grand Opening🥂
DESCRIPTION:Join us on March 15th to celebrate the Grand Opening of Scout & Molly’s Cherry Hill in the Towne Place at Garden State Park! \n🎀 What to Expect:\n✨ Discover the latest fashions and incredible brands\n✨ Chance to win a stunning luxe Hammitt handbag!👜*\n✨ Other giveaways include Scout & Molly’s gift cards totaling $500*\n✨ Experience the unique Scout & Molly’s vibe\n✨ Enjoy sips\, bites\, and great company! \nAt Scout & Molly’s\, we celebrate your individuality with expert styling\, the latest trends\, and a warm\, welcoming vibe—just like shopping in your best friend’s closet!  Whether you’re looking for the perfect outfit\, statement accessories\, or wardrobe staples\, our expert stylists are here to help you every step of the way. \nBe sure to visit our homepage to sign up to enter our free giveaways! \nWe can’t wait to welcome you into the Scout & Molly’s Cherry Hill family! 🛍️💖🥂 \n*To qualify for the Hammitt handbag and the $100 gift card giveaway\, sign up on our homepage\, visit the store on Grand Opening day\, and make a purchase. The other gift cards only require a website sign-up.
URL:https://www.scoutandmollys.com/cherry-hill/event/scout-mollys-cherry-hill-grand-opening/
LOCATION:Scout & Molly’s Cherry Hill\, 957 Haddonfield Road\, Cherry Hill\, NJ\, 08002\, United States
ATTACH;FMTTYPE=image/png:https://www.scoutandmollys.com/cherry-hill/wp-content/uploads/sites/19/2025/01/SMB-Cherry-Hill-Microsite-Event.png
END:VEVENT
END:VCALENDAR